BEGIN:VCALENDAR
VERSION:2.0
PRODID:-//Melanargia - Schmetterlinge und mehr! - ECPv6.15.20//NONSGML v1.0//EN
CALSCALE:GREGORIAN
METHOD:PUBLISH
X-WR-CALNAME:Melanargia - Schmetterlinge und mehr!
X-ORIGINAL-URL:https://www.ag-rh-w-lepidopterologen.de
X-WR-CALDESC:Veranstaltungen für Melanargia - Schmetterlinge und mehr!
REFRESH-INTERVAL;VALUE=DURATION:PT1H
X-Robots-Tag:noindex
X-PUBLISHED-TTL:PT1H
BEGIN:VTIMEZONE
TZID:Europe/Berlin
BEGIN:DAYLIGHT
TZOFFSETFROM:+0100
TZOFFSETTO:+0200
TZNAME:CEST
DTSTART:20230326T010000
END:DAYLIGHT
BEGIN:STANDARD
TZOFFSETFROM:+0200
TZOFFSETTO:+0100
TZNAME:CET
DTSTART:20231029T010000
END:STANDARD
BEGIN:DAYLIGHT
TZOFFSETFROM:+0100
TZOFFSETTO:+0200
TZNAME:CEST
DTSTART:20240331T010000
END:DAYLIGHT
BEGIN:STANDARD
TZOFFSETFROM:+0200
TZOFFSETTO:+0100
TZNAME:CET
DTSTART:20241027T010000
END:STANDARD
BEGIN:DAYLIGHT
TZOFFSETFROM:+0100
TZOFFSETTO:+0200
TZNAME:CEST
DTSTART:20250330T010000
END:DAYLIGHT
BEGIN:STANDARD
TZOFFSETFROM:+0200
TZOFFSETTO:+0100
TZNAME:CET
DTSTART:20251026T010000
END:STANDARD
END:VTIMEZONE
BEGIN:VEVENT
DTSTART;VALUE=DATE:20240803
DTEND;VALUE=DATE:20240804
DTSTAMP:20260425T170318
CREATED:20240125T080957Z
LAST-MODIFIED:20240716T192005Z
UID:15006-1722643200-1722729599@www.ag-rh-w-lepidopterologen.de
SUMMARY:Eitorf: Mitgliederversammlung und Exkursion der AG
DESCRIPTION:Der Vorstand lädt alle Mitglieder sehr herzlich zu unserer diesjährigen Mitgliederversammlung ein. \nTermin: Samstag\, 3. August 2024\, 10:00 Uhr\nOrt: Biologische Station im Rhein-Sieg-Kreis\, Robert-Rösgen-Platz 1\, 53783 Eitorf – https://www.biostation-rhein-sieg.de/ \nDie Biologische Station liegt direkt am Bahnhof und ist mit den S-Bahn-Linien S12 und S19 sowie mit dem Regionalexpress RE9 erreichbar. Auf der anderen Seite der Gleise gibt es große kostenfreie Parkplätze. Die Anfahrt mit dem Auto ist auf der Internetseite beschrieben. \nAls Tagesordnung sind folgende Punkte vorgesehen\, siehe auch das pdf: Einladung zur Mitgliederversammlung 2024 \n1. Begrüßung\, Ehrengedenken unserer Verstorbenen und Ehrung langjähriger Mitglieder der Arbeitsgemeinschaft\n2. Genehmigung bzw. Ergänzung der Tagesordnung\n3. Bericht des Vorstandes – Geschäftsbericht des Geschäftsführers – Kassenbericht des Kassierers\n4. Bericht der Kassenprüfer\n5. Aussprache zum Bericht des Vorstandes\n6. Entlastung des Vorstandes\n7. Apolloschutzbemühungen und die Konsequenzen für Vereinsaufgaben\n8. Satzungsänderungen mit Beschlussfassung: §4 Abs. 3; §7 Abs. 2; §8 Abs. 1 g) (s.u.)\n9. Neuwahl des Vorstandes gemäß Satzung\n10. Bestätigung des Beirates\n11. Wahl von zwei Kassen- und Rechnungsprüfern\n12. Diskussion Beitragserhöhung\n13. Melanargia-Hefte\n14. Ziele und Aufgaben des Vereins (Diskussion)\n15. Aktivitäten des Vereins in sozialen Medien: Ist eine Bündelung der Aktivitäten von verschiedenen Vereinsmitgliedern möglich?\n16. EDV (Datenbanken\, Datenaustausch und Internetauftritt)\n17. Fauna 21 – und jetzt?\n18. Verschiedenes \nProgramm \nStatt der Jahrestagung bieten wir dieses Mal am Nachmittag Exkursionen an. Zur Auswahl stehen ab etwa 14 Uhr folgende Ziele:\n1. Zu den Habitaten der Ameisenbläulinge Phengaris nausithous und teleius im Siegtal\n2. Zu zwei kleinen ehemaligen Steinbrüchen\n3. Wanderrunde „Wildwiesenweg“ durch ein typisches Mittelgebirgstal\, Wald und Obstwiesen\, mit Ausblick und Wiesenknopf\, 5\,6 km\nAm Abend ist die Möglichkeit zum Lichtfang vorsehen.
URL:https://www.ag-rh-w-lepidopterologen.de/event/eitorf-mitgliederversammlung-und-exkursion-der-ag/
LOCATION:Biostation Eitorf\, Robert-Rösgen-Platz 1\, Eitorf.\, 53783\, Deutschland
CATEGORIES:Exkursion,Verein / Orga
END:VEVENT
END:VCALENDAR