BEGIN:VCALENDAR
VERSION:2.0
PRODID:-//Melanargia - Schmetterlinge und mehr! - ECPv6.15.20//NONSGML v1.0//EN
CALSCALE:GREGORIAN
METHOD:PUBLISH
X-ORIGINAL-URL:https://www.ag-rh-w-lepidopterologen.de
X-WR-CALDESC:Veranstaltungen für Melanargia - Schmetterlinge und mehr!
REFRESH-INTERVAL;VALUE=DURATION:PT1H
X-Robots-Tag:noindex
X-PUBLISHED-TTL:PT1H
BEGIN:VTIMEZONE
TZID:Europe/Berlin
BEGIN:DAYLIGHT
TZOFFSETFROM:+0100
TZOFFSETTO:+0200
TZNAME:CEST
DTSTART:20230326T010000
END:DAYLIGHT
BEGIN:STANDARD
TZOFFSETFROM:+0200
TZOFFSETTO:+0100
TZNAME:CET
DTSTART:20231029T010000
END:STANDARD
BEGIN:DAYLIGHT
TZOFFSETFROM:+0100
TZOFFSETTO:+0200
TZNAME:CEST
DTSTART:20240331T010000
END:DAYLIGHT
BEGIN:STANDARD
TZOFFSETFROM:+0200
TZOFFSETTO:+0100
TZNAME:CET
DTSTART:20241027T010000
END:STANDARD
BEGIN:DAYLIGHT
TZOFFSETFROM:+0100
TZOFFSETTO:+0200
TZNAME:CEST
DTSTART:20250330T010000
END:DAYLIGHT
BEGIN:STANDARD
TZOFFSETFROM:+0200
TZOFFSETTO:+0100
TZNAME:CET
DTSTART:20251026T010000
END:STANDARD
END:VTIMEZONE
BEGIN:VEVENT
DTSTART;TZID=Europe/Berlin:20240831T200000
DTEND;TZID=Europe/Berlin:20240831T230000
DTSTAMP:20260425T153535
CREATED:20240411T112940Z
LAST-MODIFIED:20240806T152518Z
UID:15346-1725134400-1725145200@www.ag-rh-w-lepidopterologen.de
SUMMARY:Bornheim-Brenig: Leuchtabend in der Obstblütenlandschaft
DESCRIPTION:Viele Falter haben nur eine kurze Flugzeit\, im Spätsommer zeigt sich ein ganz anderes Artenspektrum als im Frühjahr\, so dass es immer spannend ist. Die Tiere werden sich am\nLicht oder Köder niederlassen und können in Ruhe betrachtet werden.\nEs ist für alle\, von Schulkindern bis zu Erwachsenen\, interessant zu sehen\, wie schön\, vielfältig und durchaus auch farbig die Nachtfalter sind. \nBei dieser Veranstaltung sind Gäste von klein bis groß gleichermaßen willkommen.\nBitte Taschenlampen\, warme Kleidung und festes Schuhwerk nicht vergessen!\nDauer: 3 Stunden – oder solange wir wollen!\nAnmeldung: erforderlich \nOrt: Obstblütenlandschaft Bornheim-Botzdorf\, Neuweg; \nLeitung: Brigitte und Hajo Schmälter\n0176 322 93887  brigitte.schmaelter@melanargia.de\n \nTreffpunkt: LSV-Turm am Neuweg \nParken: Parkplatz an der Victoriawiese\, Roisdorfer Hufebahn\, 53332 Bornheim
URL:https://www.ag-rh-w-lepidopterologen.de/event/bornheim-brenig-leuchtabend-in-der-obstbluetenlandschaft/
LOCATION:Nordrhein-Westfalen
CATEGORIES:Exkursion,Vortrag
END:VEVENT
END:VCALENDAR