BEGIN:VCALENDAR
VERSION:2.0
PRODID:-//Melanargia - Schmetterlinge und mehr! - ECPv6.15.20//NONSGML v1.0//EN
CALSCALE:GREGORIAN
METHOD:PUBLISH
X-ORIGINAL-URL:https://www.ag-rh-w-lepidopterologen.de
X-WR-CALDESC:Veranstaltungen für Melanargia - Schmetterlinge und mehr!
REFRESH-INTERVAL;VALUE=DURATION:PT1H
X-Robots-Tag:noindex
X-PUBLISHED-TTL:PT1H
BEGIN:VTIMEZONE
TZID:Europe/Berlin
BEGIN:DAYLIGHT
TZOFFSETFROM:+0100
TZOFFSETTO:+0200
TZNAME:CEST
DTSTART:20230326T010000
END:DAYLIGHT
BEGIN:STANDARD
TZOFFSETFROM:+0200
TZOFFSETTO:+0100
TZNAME:CET
DTSTART:20231029T010000
END:STANDARD
BEGIN:DAYLIGHT
TZOFFSETFROM:+0100
TZOFFSETTO:+0200
TZNAME:CEST
DTSTART:20240331T010000
END:DAYLIGHT
BEGIN:STANDARD
TZOFFSETFROM:+0200
TZOFFSETTO:+0100
TZNAME:CET
DTSTART:20241027T010000
END:STANDARD
BEGIN:DAYLIGHT
TZOFFSETFROM:+0100
TZOFFSETTO:+0200
TZNAME:CEST
DTSTART:20250330T010000
END:DAYLIGHT
BEGIN:STANDARD
TZOFFSETFROM:+0200
TZOFFSETTO:+0100
TZNAME:CET
DTSTART:20251026T010000
END:STANDARD
END:VTIMEZONE
BEGIN:VEVENT
DTSTART;TZID=Europe/Berlin:20241123T080000
DTEND;TZID=Europe/Berlin:20241124T170000
DTSTAMP:20260425T125330
CREATED:20240503T093137Z
LAST-MODIFIED:20241002T104826Z
UID:15377-1732348800-1732467600@www.ag-rh-w-lepidopterologen.de
SUMMARY:Düsseldorf: WET Westdeutscher Entomologentag
DESCRIPTION:Als Neuheit beim WET dürfen wir darüber hinaus den Westdeutschen Entomologentag T-Shirt-Contest vorstellen. An diesem WET-T-Shirt-Contest kann jede und jeder teilnehmen\, die/der in einem Kleidungsstück mit Insektenthema zur Veranstaltung erscheint. Im Laufe der Veranstaltung gibt es die Möglichkeit\, diese Outfits zu bewerten. Die Bestplatzierten gewinnen einen Preis. \n \n> Zum Kompletten Programm \n> Zum Ticketkauf
URL:https://www.ag-rh-w-lepidopterologen.de/event/duesseldorf-wet-westdeutscher-entomologentag/
LOCATION:Max-Planck-Gymnasium\, Koetschaustraße 36\, 40474 Düsseldorf\, Max-Planck-Gymnasium\, Koetschaustraße 3\, Düsseldorf\, 40474\, Germany
END:VEVENT
END:VCALENDAR