BEGIN:VCALENDAR
VERSION:2.0
PRODID:-//Melanargia - Schmetterlinge und mehr! - ECPv6.15.18//NONSGML v1.0//EN
CALSCALE:GREGORIAN
METHOD:PUBLISH
X-ORIGINAL-URL:https://www.ag-rh-w-lepidopterologen.de
X-WR-CALDESC:Veranstaltungen für Melanargia - Schmetterlinge und mehr!
REFRESH-INTERVAL;VALUE=DURATION:PT1H
X-Robots-Tag:noindex
X-PUBLISHED-TTL:PT1H
BEGIN:VTIMEZONE
TZID:Europe/Berlin
BEGIN:DAYLIGHT
TZOFFSETFROM:+0100
TZOFFSETTO:+0200
TZNAME:CEST
DTSTART:20240331T010000
END:DAYLIGHT
BEGIN:STANDARD
TZOFFSETFROM:+0200
TZOFFSETTO:+0100
TZNAME:CET
DTSTART:20241027T010000
END:STANDARD
BEGIN:DAYLIGHT
TZOFFSETFROM:+0100
TZOFFSETTO:+0200
TZNAME:CEST
DTSTART:20250330T010000
END:DAYLIGHT
BEGIN:STANDARD
TZOFFSETFROM:+0200
TZOFFSETTO:+0100
TZNAME:CET
DTSTART:20251026T010000
END:STANDARD
BEGIN:DAYLIGHT
TZOFFSETFROM:+0100
TZOFFSETTO:+0200
TZNAME:CEST
DTSTART:20260329T010000
END:DAYLIGHT
BEGIN:STANDARD
TZOFFSETFROM:+0200
TZOFFSETTO:+0100
TZNAME:CET
DTSTART:20261025T010000
END:STANDARD
END:VTIMEZONE
BEGIN:VEVENT
DTSTART;VALUE=DATE:20250317
DTEND;VALUE=DATE:20250321
DTSTAMP:20260421T121124
CREATED:20241023T105917Z
LAST-MODIFIED:20250114T180539Z
UID:15746-1742169600-1742515199@www.ag-rh-w-lepidopterologen.de
SUMMARY:Geisenheim: Entomologentagung der DGaaE
DESCRIPTION:Liebe DGaaE-Mitglieder\, liebe Kolleginnen und Kollegen\, liebe entomologisch Interessierte\,\nwir laden Sie herzlich zur Teilnahme an der Entomologentagung 2025 der Deutschen Gesellschaft für allgemeine und angewandte Entomologie (DGaaE) ein. Die Entomologentagung findet vom 17. bis 20. März 2025 in Geisenheim statt und wird in Zusammenarbeit mit der Hochschule Geisenheim University (HGU) veranstaltet. \nEntomologentagungen sind internationale Kongresse mit einem sehr breiten Spektrum wissenschaftlicher Themen über Insekten und andere Arthropoden. Sie bringen Wissenschaftler:innen aller entomologischen Fachrichtungen und interessierte Gäste zusammen\, um aktuelle Ergebnisse\, methodische Innovationen und Strategien zur Bewältigung künftiger Herausforderungen zu diskutieren. Vortragssprachen sind Englisch und Deutsch. \nWeitere Informationen und das Anmeldeformular finden Sie sich unter https://www.dgaae.de/de/entomologentagung-2025-uebersicht.html\nBitte melden sie sich bis zum 15. Januar 2025 an! \nDGaaE- Beitritt zur Entomologentagung 2025: \nFür Neumitglieder entfällt der Mitgliedsbeitrag im ersten Jahr: > Antrag auf Mitgliedschaft
URL:https://www.ag-rh-w-lepidopterologen.de/event/geisenheim-2025-dgaae/
LOCATION:Hochschule Geisenheim\, Geisenheim\, Germany
CATEGORIES:Netzwerk,Vortrag
END:VEVENT
END:VCALENDAR