BEGIN:VCALENDAR
VERSION:2.0
PRODID:-//Melanargia - Schmetterlinge und mehr! - ECPv6.15.18//NONSGML v1.0//EN
CALSCALE:GREGORIAN
METHOD:PUBLISH
X-ORIGINAL-URL:https://www.ag-rh-w-lepidopterologen.de
X-WR-CALDESC:Veranstaltungen für Melanargia - Schmetterlinge und mehr!
REFRESH-INTERVAL;VALUE=DURATION:PT1H
X-Robots-Tag:noindex
X-PUBLISHED-TTL:PT1H
BEGIN:VTIMEZONE
TZID:Europe/Berlin
BEGIN:DAYLIGHT
TZOFFSETFROM:+0100
TZOFFSETTO:+0200
TZNAME:CEST
DTSTART:20240331T010000
END:DAYLIGHT
BEGIN:STANDARD
TZOFFSETFROM:+0200
TZOFFSETTO:+0100
TZNAME:CET
DTSTART:20241027T010000
END:STANDARD
BEGIN:DAYLIGHT
TZOFFSETFROM:+0100
TZOFFSETTO:+0200
TZNAME:CEST
DTSTART:20250330T010000
END:DAYLIGHT
BEGIN:STANDARD
TZOFFSETFROM:+0200
TZOFFSETTO:+0100
TZNAME:CET
DTSTART:20251026T010000
END:STANDARD
BEGIN:DAYLIGHT
TZOFFSETFROM:+0100
TZOFFSETTO:+0200
TZNAME:CEST
DTSTART:20260329T010000
END:DAYLIGHT
BEGIN:STANDARD
TZOFFSETFROM:+0200
TZOFFSETTO:+0100
TZNAME:CET
DTSTART:20261025T010000
END:STANDARD
END:VTIMEZONE
BEGIN:VEVENT
DTSTART;TZID=Europe/Berlin:20250329T100000
DTEND;TZID=Europe/Berlin:20250329T170000
DTSTAMP:20260423T103621
CREATED:20250114T175859Z
LAST-MODIFIED:20250325T151237Z
UID:15962-1743242400-1743267600@www.ag-rh-w-lepidopterologen.de
SUMMARY:Eitorf: Mitgliederversammlung und Jahrestagung der AG
DESCRIPTION:>> Einladung zur Mitgliederversammlung_2025 als .pdf zum Download \nWie bereits 2024 tagt die Arbeitsgemeinschaft in den Räumen der Biostation am Bahnhof Eitorf. Gäste sind willkommen! \nTagesordnung:\n \n1. Begrüßung\, Ehrengedenken unserer Verstorbenen\nund Ehrung langjähriger Mitglieder der Arbeitsgemeinschaft\n2. Genehmigung bzw. Ergänzung der Tagesordnung\n3. Bericht des Vorstandes\n– Geschäftsbericht des Geschäftsführers\n– Kassenbericht des Kassierers\n4. Bericht der Kassenprüfer\n5. Aussprache zum Bericht des Vorstandes\n6. Entlastung des Vorstandes\n7. Apolloschutzbemühungen: Stand des Gerichtsverfahrens\n8. Satzungsänderung mit Beschlussfassung: §1 Abs. 1 (Vereinsname)\n9. Erfassung der Aufbewahrungsorte der Sammlungen unserer Mitglieder\n10. Verschiedenes \n—————————————————– \nAb 13:00 Uhr laden wir zu unserer Jahrestagung ein. Folgende Vorträge sind vorgesehen: \n\n\n\nMatthias Kaiser (LANUV): Das LANUV stellt sich vor\nHeinz Schumacher & Brigitte Schmälter: Lepidoptera im Siegtal\nDaniel Müller: Neues vom Mosel-Apollo\nSteffen Steenken & Brigitte Schmälter: Ameisenbläulinge im Siegtal\n\n\n\nÄnderungen vorbehalten\, Ende ca. 17:00 Uhr. \nhttps://www.ag-rh-w-lepidopterologen.de/_mGala-16_Thea/wp-admin/edit-comments.php\nAm Abend ist die Möglichkeit zum Lichtfang vorsehen. \nDas Mittagessen planen wir in der Station zu organisieren\, um den Zeitrahmen nicht zu\nsprengen.\nWer wegen des Lichtfangs übernachten möchte\, findet von großen Hotels bis zu Pensionen\nund Campingplatz viele Möglichkeiten in Eitorf: \nUnterkünfte \n\nund weitere aller Kategorien etwa in Hennef
URL:https://www.ag-rh-w-lepidopterologen.de/event/mitgliederversammlung_2025/
LOCATION:Biostation Eitorf\, Robert-Rösgen-Platz 1\, Eitorf.\, 53783\, Deutschland
CATEGORIES:Verein / Orga,Vortrag
END:VEVENT
END:VCALENDAR