BEGIN:VCALENDAR
VERSION:2.0
PRODID:-//Melanargia - Schmetterlinge und mehr! - ECPv6.15.18//NONSGML v1.0//EN
CALSCALE:GREGORIAN
METHOD:PUBLISH
X-ORIGINAL-URL:https://www.ag-rh-w-lepidopterologen.de
X-WR-CALDESC:Veranstaltungen für Melanargia - Schmetterlinge und mehr!
REFRESH-INTERVAL;VALUE=DURATION:PT1H
X-Robots-Tag:noindex
X-PUBLISHED-TTL:PT1H
BEGIN:VTIMEZONE
TZID:Europe/Berlin
BEGIN:DAYLIGHT
TZOFFSETFROM:+0100
TZOFFSETTO:+0200
TZNAME:CEST
DTSTART:20240331T010000
END:DAYLIGHT
BEGIN:STANDARD
TZOFFSETFROM:+0200
TZOFFSETTO:+0100
TZNAME:CET
DTSTART:20241027T010000
END:STANDARD
BEGIN:DAYLIGHT
TZOFFSETFROM:+0100
TZOFFSETTO:+0200
TZNAME:CEST
DTSTART:20250330T010000
END:DAYLIGHT
BEGIN:STANDARD
TZOFFSETFROM:+0200
TZOFFSETTO:+0100
TZNAME:CET
DTSTART:20251026T010000
END:STANDARD
BEGIN:DAYLIGHT
TZOFFSETFROM:+0100
TZOFFSETTO:+0200
TZNAME:CEST
DTSTART:20260329T010000
END:DAYLIGHT
BEGIN:STANDARD
TZOFFSETFROM:+0200
TZOFFSETTO:+0100
TZNAME:CET
DTSTART:20261025T010000
END:STANDARD
END:VTIMEZONE
BEGIN:VEVENT
DTSTART;TZID=Europe/Berlin:20250412T130000
DTEND;TZID=Europe/Berlin:20250412T170000
DTSTAMP:20260419T150411
CREATED:20250301T100132Z
LAST-MODIFIED:20250407T200056Z
UID:16038-1744462800-1744477200@www.ag-rh-w-lepidopterologen.de
SUMMARY:Schloßböckelheim: Pflegeeinsatz
DESCRIPTION:am Samstag 12. April 2025 wollen wir die von der Arbeitsgemeinschaft seit vielen Jahren betreuten\, faunistisch und floristisch extrem wertvollen Halbtrockenrasen am Felsenberg bei Schloßböckelheim mähen und die weitere Verbuschung verhindern. \nTreffpunkt ist wie in den vergangene Jahren der Wanderparkplatz zum Heimbergturm.\nhttps://maps.app.goo.gl/VVZz7pe1yFgsycqDA \nMitbringen: Festes Schuhwerk\, Handschuhe\, Astscheren\, Gute Laune. \nWer Zeit hat zu backen\, Kuchenspenden sind immer willkommen! Organisation: Armin Dahl und Heinz Schumacher \nPflegeeinsatz oder einfach mal übers Tal gucken. Felsenberg\, gegenüber der Gangelsberg. Foto: Armin Dahl \nIm Anschluß besteht die Möglichkeit zum Lichtfang am Felsenberg oder in der Umgebung.Wer übernachten will sollte sich rechtzeitig um eine Unterkunft kümmern: vom 14.4.–25.4. sind Osterferien in Rheinland-Pfalz.
URL:https://www.ag-rh-w-lepidopterologen.de/event/schlossboeckelheim-pflegeeinsatz-vorl/
LOCATION:Schloßböckelheim / Nahe\, Felsenberg\, Schloßböckelheim
CATEGORIES:Exkursion,Pflegeeinsatz,Verein / Orga
END:VEVENT
END:VCALENDAR