BEGIN:VCALENDAR
VERSION:2.0
PRODID:-//Melanargia - Schmetterlinge und mehr! - ECPv6.15.18//NONSGML v1.0//EN
CALSCALE:GREGORIAN
METHOD:PUBLISH
X-ORIGINAL-URL:https://www.ag-rh-w-lepidopterologen.de
X-WR-CALDESC:Veranstaltungen für Melanargia - Schmetterlinge und mehr!
REFRESH-INTERVAL;VALUE=DURATION:PT1H
X-Robots-Tag:noindex
X-PUBLISHED-TTL:PT1H
BEGIN:VTIMEZONE
TZID:Europe/Berlin
BEGIN:DAYLIGHT
TZOFFSETFROM:+0100
TZOFFSETTO:+0200
TZNAME:CEST
DTSTART:20240331T010000
END:DAYLIGHT
BEGIN:STANDARD
TZOFFSETFROM:+0200
TZOFFSETTO:+0100
TZNAME:CET
DTSTART:20241027T010000
END:STANDARD
BEGIN:DAYLIGHT
TZOFFSETFROM:+0100
TZOFFSETTO:+0200
TZNAME:CEST
DTSTART:20250330T010000
END:DAYLIGHT
BEGIN:STANDARD
TZOFFSETFROM:+0200
TZOFFSETTO:+0100
TZNAME:CET
DTSTART:20251026T010000
END:STANDARD
BEGIN:DAYLIGHT
TZOFFSETFROM:+0100
TZOFFSETTO:+0200
TZNAME:CEST
DTSTART:20260329T010000
END:DAYLIGHT
BEGIN:STANDARD
TZOFFSETFROM:+0200
TZOFFSETTO:+0100
TZNAME:CET
DTSTART:20261025T010000
END:STANDARD
END:VTIMEZONE
BEGIN:VEVENT
DTSTART;TZID=Europe/Berlin:20250509T213000
DTEND;TZID=Europe/Berlin:20250509T233000
DTSTAMP:20260421T121242
CREATED:20241204T121201Z
LAST-MODIFIED:20241204T122037Z
UID:15875-1746826200-1746833400@www.ag-rh-w-lepidopterologen.de
SUMMARY:Haan-Gruiten: Öffentlicher Leuchtabend/ Lichtfang
DESCRIPTION:Vorläufig – save the date! \n\nAuf den Spuren der Nachtfalter\nGeplant ist ein Lichtfang im ehemaligen Steinbruch Grube 7. \nLeitung: Dr. Armin Radtke\nOrganisation und Anmeldung über die Biostation Urdenbacher Kämpe \nDetails folgen hier
URL:https://www.ag-rh-w-lepidopterologen.de/event/haan-gruiten-oeffentlicher-leuchtabend-lichtfang/
LOCATION:Nordrhein-Westfalen
CATEGORIES:Exkursion
END:VEVENT
END:VCALENDAR