BEGIN:VCALENDAR
VERSION:2.0
PRODID:-//Melanargia - Schmetterlinge und mehr! - ECPv6.15.18//NONSGML v1.0//EN
CALSCALE:GREGORIAN
METHOD:PUBLISH
X-WR-CALNAME:Melanargia - Schmetterlinge und mehr!
X-ORIGINAL-URL:https://www.ag-rh-w-lepidopterologen.de
X-WR-CALDESC:Veranstaltungen für Melanargia - Schmetterlinge und mehr!
REFRESH-INTERVAL;VALUE=DURATION:PT1H
X-Robots-Tag:noindex
X-PUBLISHED-TTL:PT1H
BEGIN:VTIMEZONE
TZID:Europe/Berlin
BEGIN:DAYLIGHT
TZOFFSETFROM:+0100
TZOFFSETTO:+0200
TZNAME:CEST
DTSTART:20240331T010000
END:DAYLIGHT
BEGIN:STANDARD
TZOFFSETFROM:+0200
TZOFFSETTO:+0100
TZNAME:CET
DTSTART:20241027T010000
END:STANDARD
BEGIN:DAYLIGHT
TZOFFSETFROM:+0100
TZOFFSETTO:+0200
TZNAME:CEST
DTSTART:20250330T010000
END:DAYLIGHT
BEGIN:STANDARD
TZOFFSETFROM:+0200
TZOFFSETTO:+0100
TZNAME:CET
DTSTART:20251026T010000
END:STANDARD
BEGIN:DAYLIGHT
TZOFFSETFROM:+0100
TZOFFSETTO:+0200
TZNAME:CEST
DTSTART:20260329T010000
END:DAYLIGHT
BEGIN:STANDARD
TZOFFSETFROM:+0200
TZOFFSETTO:+0100
TZNAME:CET
DTSTART:20261025T010000
END:STANDARD
END:VTIMEZONE
BEGIN:VEVENT
DTSTART;TZID=Europe/Berlin:20250628T220000
DTEND;TZID=Europe/Berlin:20250629T020000
DTSTAMP:20260421T102559
CREATED:20250214T121024Z
LAST-MODIFIED:20250624T172541Z
UID:16019-1751148000-1751162400@www.ag-rh-w-lepidopterologen.de
SUMMARY:Dortmund: Tag (und Nacht) der Lebendigen Emscheraue
DESCRIPTION:Lichtfang /  Datenerhebung erfolgt entlang des Hochwasserrückhaltebeckens (HRB) Mengede am Hof Emscher-Auen und im HRB Ellinghausen\nmehr Infos: https://www.eglv.de/medien/artenvielfalt-24-stunden-beobachtung-in-den-emscher-auen/ \nLink zu google maps \n  \n 
URL:https://www.ag-rh-w-lepidopterologen.de/event/dortmund-tag-und-nacht-der-lebendigen-emscheraue/
LOCATION:Nordrhein-Westfalen
CATEGORIES:Citizen Science,Exkursion
END:VEVENT
END:VCALENDAR