BEGIN:VCALENDAR
VERSION:2.0
PRODID:-//Melanargia - Schmetterlinge und mehr! - ECPv6.15.18//NONSGML v1.0//EN
CALSCALE:GREGORIAN
METHOD:PUBLISH
X-WR-CALNAME:Melanargia - Schmetterlinge und mehr!
X-ORIGINAL-URL:https://www.ag-rh-w-lepidopterologen.de
X-WR-CALDESC:Veranstaltungen für Melanargia - Schmetterlinge und mehr!
REFRESH-INTERVAL;VALUE=DURATION:PT1H
X-Robots-Tag:noindex
X-PUBLISHED-TTL:PT1H
BEGIN:VTIMEZONE
TZID:Europe/Berlin
BEGIN:DAYLIGHT
TZOFFSETFROM:+0100
TZOFFSETTO:+0200
TZNAME:CEST
DTSTART:20240331T010000
END:DAYLIGHT
BEGIN:STANDARD
TZOFFSETFROM:+0200
TZOFFSETTO:+0100
TZNAME:CET
DTSTART:20241027T010000
END:STANDARD
BEGIN:DAYLIGHT
TZOFFSETFROM:+0100
TZOFFSETTO:+0200
TZNAME:CEST
DTSTART:20250330T010000
END:DAYLIGHT
BEGIN:STANDARD
TZOFFSETFROM:+0200
TZOFFSETTO:+0100
TZNAME:CET
DTSTART:20251026T010000
END:STANDARD
BEGIN:DAYLIGHT
TZOFFSETFROM:+0100
TZOFFSETTO:+0200
TZNAME:CEST
DTSTART:20260329T010000
END:DAYLIGHT
BEGIN:STANDARD
TZOFFSETFROM:+0200
TZOFFSETTO:+0100
TZNAME:CET
DTSTART:20261025T010000
END:STANDARD
END:VTIMEZONE
BEGIN:VEVENT
DTSTART;TZID=Europe/Berlin:20250720T100000
DTEND;TZID=Europe/Berlin:20250720T123000
DTSTAMP:20260423T114841
CREATED:20250429T202441Z
LAST-MODIFIED:20250429T202441Z
UID:16144-1753005600-1753014600@www.ag-rh-w-lepidopterologen.de
SUMMARY:Eitorf: Bläulinge auf blütenreichen Wiesen
DESCRIPTION:Der BUND pflegt mit großem Engagement unter anderem diese blütenreichen Wiesen. Sie wurden speziell für die sehr seltenen und bedrohten Wiesenknopf-Ameisenbläulinge hergerichtet\, bieten jedoch gerade dadurch auch einen hervorragenden Lebensraum für viele andere Insekten. Mit etwas Wetterglück werden wir die Bläulinge und viele andere Falter beobachtenund etwas über ihre Lebensansprüche erfahren können. Ferngläser sind sehr hilfreich\, wenn wir die Tiere gut sehen wollen!\nDauer: ca. 2\,5 Stunden \nAnmeldung ist erforderlich: Brigitte Schmälter\, 0176 322 93887 oder Brigitte.Schmaelter@BUND-RSK.de
URL:https://www.ag-rh-w-lepidopterologen.de/event/eitorf-blaeulinge-auf-bluetenreichen-wiesen/
LOCATION:Eitorf-Alzenbach\, Bläulingswiesen\, Eitorf-Alzenbach\, Nordrhein-Westfalen\, 53783
END:VEVENT
END:VCALENDAR