BEGIN:VCALENDAR
VERSION:2.0
PRODID:-//Melanargia - Schmetterlinge und mehr! - ECPv6.15.18//NONSGML v1.0//EN
CALSCALE:GREGORIAN
METHOD:PUBLISH
X-WR-CALNAME:Melanargia - Schmetterlinge und mehr!
X-ORIGINAL-URL:https://www.ag-rh-w-lepidopterologen.de
X-WR-CALDESC:Veranstaltungen für Melanargia - Schmetterlinge und mehr!
REFRESH-INTERVAL;VALUE=DURATION:PT1H
X-Robots-Tag:noindex
X-PUBLISHED-TTL:PT1H
BEGIN:VTIMEZONE
TZID:Europe/Berlin
BEGIN:DAYLIGHT
TZOFFSETFROM:+0100
TZOFFSETTO:+0200
TZNAME:CEST
DTSTART:20240331T010000
END:DAYLIGHT
BEGIN:STANDARD
TZOFFSETFROM:+0200
TZOFFSETTO:+0100
TZNAME:CET
DTSTART:20241027T010000
END:STANDARD
BEGIN:DAYLIGHT
TZOFFSETFROM:+0100
TZOFFSETTO:+0200
TZNAME:CEST
DTSTART:20250330T010000
END:DAYLIGHT
BEGIN:STANDARD
TZOFFSETFROM:+0200
TZOFFSETTO:+0100
TZNAME:CET
DTSTART:20251026T010000
END:STANDARD
BEGIN:DAYLIGHT
TZOFFSETFROM:+0100
TZOFFSETTO:+0200
TZNAME:CEST
DTSTART:20260329T010000
END:DAYLIGHT
BEGIN:STANDARD
TZOFFSETFROM:+0200
TZOFFSETTO:+0100
TZNAME:CET
DTSTART:20261025T010000
END:STANDARD
END:VTIMEZONE
BEGIN:VEVENT
DTSTART;TZID=Europe/Berlin:20250722T180000
DTEND;TZID=Europe/Berlin:20250722T200000
DTSTAMP:20260421T115149
CREATED:20250624T164549Z
LAST-MODIFIED:20250624T165302Z
UID:16210-1753207200-1753214400@www.ag-rh-w-lepidopterologen.de
SUMMARY:Düsseldorf: Wo sind die Schmetterlinge?
DESCRIPTION:Was erzählen uns Schmetterlinge über den Zustand unserer Umwelt? \nIn diesem Vortrag zeigt der Schmetterlingsexperte Tim Laußmann einen spannenden Blick auf 160 Jahre Tag- und Nachtfalterbeobachtungen im Raum Wuppertal und Hilden. Auf Grundlage historischer Sammlungen und moderner Beobachtungen entsteht ein Bild vom Wandel der Artenvielfalt – mit deutlichen Gewinnen\, aber auch gravierenden Verlusten. Der Vortrag richtet sich an alle naturinteressierten Menschen und zeigt\, warum selbst kleine Tiere große Geschichten erzählen können und warum der Schutz jeder einzelnen Art wichtig ist. Darüber hinaus gibt es Tipps\, was jede und jeder für Schmetterlinge und andere Insekten tun kann. \nDie Teilnahme an der Veranstaltung ist Dank der Unterstützung durch den Aquazoo-Freundeskreis kostenfrei. Eine Anmeldung ist nicht erforderlich. Treffpunkt ist um 18 Uhr vor dem \n Aquazoo Löbbecke Museum\nKaiserswerther Straße 380\n40474 Düsseldorf
URL:https://www.ag-rh-w-lepidopterologen.de/event/duesseldorf-wo-sind-die-schmetterlinge/
LOCATION:Düsseldorf Löbbecke-Museum und Aquazoo\, Kaiserswerther Str. 380\, Düsseldorf\, 40474\, Deutschland
CATEGORIES:Citizen Science,Netzwerk,Vortrag
END:VEVENT
END:VCALENDAR