BEGIN:VCALENDAR
VERSION:2.0
PRODID:-//Melanargia - Schmetterlinge und mehr! - ECPv6.15.18//NONSGML v1.0//EN
CALSCALE:GREGORIAN
METHOD:PUBLISH
X-WR-CALNAME:Melanargia - Schmetterlinge und mehr!
X-ORIGINAL-URL:https://www.ag-rh-w-lepidopterologen.de
X-WR-CALDESC:Veranstaltungen für Melanargia - Schmetterlinge und mehr!
REFRESH-INTERVAL;VALUE=DURATION:PT1H
X-Robots-Tag:noindex
X-PUBLISHED-TTL:PT1H
BEGIN:VTIMEZONE
TZID:Europe/Berlin
BEGIN:DAYLIGHT
TZOFFSETFROM:+0100
TZOFFSETTO:+0200
TZNAME:CEST
DTSTART:20240331T010000
END:DAYLIGHT
BEGIN:STANDARD
TZOFFSETFROM:+0200
TZOFFSETTO:+0100
TZNAME:CET
DTSTART:20241027T010000
END:STANDARD
BEGIN:DAYLIGHT
TZOFFSETFROM:+0100
TZOFFSETTO:+0200
TZNAME:CEST
DTSTART:20250330T010000
END:DAYLIGHT
BEGIN:STANDARD
TZOFFSETFROM:+0200
TZOFFSETTO:+0100
TZNAME:CET
DTSTART:20251026T010000
END:STANDARD
BEGIN:DAYLIGHT
TZOFFSETFROM:+0100
TZOFFSETTO:+0200
TZNAME:CEST
DTSTART:20260329T010000
END:DAYLIGHT
BEGIN:STANDARD
TZOFFSETFROM:+0200
TZOFFSETTO:+0100
TZNAME:CET
DTSTART:20261025T010000
END:STANDARD
END:VTIMEZONE
BEGIN:VEVENT
DTSTART;TZID=Europe/Berlin:20250810T110000
DTEND;TZID=Europe/Berlin:20250810T140000
DTSTAMP:20260419T180034
CREATED:20241211T211408Z
LAST-MODIFIED:20250806T091710Z
UID:15889-1754823600-1754834400@www.ag-rh-w-lepidopterologen.de
SUMMARY:Erftstadt-Bliesheim: Exkursion zum Schmetterling des Jahres
DESCRIPTION:Im Villewald ist der Bär los – Auf der Suche nach dem Schmetterling des Jahres (Exkursion) \nSonntag\, 10. August 2025\, 11.00 Uhr\nTreffpunkt: Parkplatz Bliesheimer Feld (siehe Google-Maps:\n50.7903283\,6.8417351  https://maps.app.goo.gl/z926KHkxbmv73hLFA) \nOhne Anmeldung! \nDie Spanische Flagge  ist nicht nur nachts unterwegs\, sondern auch tagaktiv! Im August\, zur Hauptflugzeit\, kann man die Art im Sonnenschein an Rändern von Waldwegen\, an Säumen von Wäldern oder Gebüschen\, am Ufer von Bächen und Gräben oder in ehemaligen Steinbrüchen sehen\, wenn sie an ihren Lieblingspflanzen Nektar saugt. \nLeitung: Karl-Heinz Jelinek\,\nTel. 0151 152 11 483\,\nkarl-heinz.jelinek@gmx.de
URL:https://www.ag-rh-w-lepidopterologen.de/event/erftstadt-bliesheim-exkursion-zum-schmetterling-des-jahres/
LOCATION:Nordrhein-Westfalen
CATEGORIES:Exkursion,Netzwerk,Verein / Orga
END:VEVENT
END:VCALENDAR