BEGIN:VCALENDAR
VERSION:2.0
PRODID:-//Melanargia - Schmetterlinge und mehr! - ECPv6.15.18//NONSGML v1.0//EN
CALSCALE:GREGORIAN
METHOD:PUBLISH
X-WR-CALNAME:Melanargia - Schmetterlinge und mehr!
X-ORIGINAL-URL:https://www.ag-rh-w-lepidopterologen.de
X-WR-CALDESC:Veranstaltungen für Melanargia - Schmetterlinge und mehr!
REFRESH-INTERVAL;VALUE=DURATION:PT1H
X-Robots-Tag:noindex
X-PUBLISHED-TTL:PT1H
BEGIN:VTIMEZONE
TZID:Europe/Berlin
BEGIN:DAYLIGHT
TZOFFSETFROM:+0100
TZOFFSETTO:+0200
TZNAME:CEST
DTSTART:20240331T010000
END:DAYLIGHT
BEGIN:STANDARD
TZOFFSETFROM:+0200
TZOFFSETTO:+0100
TZNAME:CET
DTSTART:20241027T010000
END:STANDARD
BEGIN:DAYLIGHT
TZOFFSETFROM:+0100
TZOFFSETTO:+0200
TZNAME:CEST
DTSTART:20250330T010000
END:DAYLIGHT
BEGIN:STANDARD
TZOFFSETFROM:+0200
TZOFFSETTO:+0100
TZNAME:CET
DTSTART:20251026T010000
END:STANDARD
BEGIN:DAYLIGHT
TZOFFSETFROM:+0100
TZOFFSETTO:+0200
TZNAME:CEST
DTSTART:20260329T010000
END:DAYLIGHT
BEGIN:STANDARD
TZOFFSETFROM:+0200
TZOFFSETTO:+0100
TZNAME:CET
DTSTART:20261025T010000
END:STANDARD
END:VTIMEZONE
BEGIN:VEVENT
DTSTART;TZID=Europe/Berlin:20250829T080000
DTEND;TZID=Europe/Berlin:20250831T170000
DTSTAMP:20260419T181419
CREATED:20241204T120248Z
LAST-MODIFIED:20241221T161755Z
UID:15872-1756454400-1756659600@www.ag-rh-w-lepidopterologen.de
SUMMARY:Kaub/Loreley: Mittelrhein-Exkursion der AG
DESCRIPTION:Geplant sind Tagesexkursionen und Lichtfänge im Gebiet zwischen Kaub / Dörscheider Heide / Spitznack / Loreley. \nBitte Quartiere privat organisieren und evtl. Fahrgemeinschaften bilden!\nMehr Infos:  Armin Dahl \n> mehr zum Teilgebiet Dörscheider Heide \n> mehr zum Teilgebiet Spitznack und Leiselfeld
URL:https://www.ag-rh-w-lepidopterologen.de/event/kaub-loreley-mittelrhein-exkursion-der-ag/
LOCATION:Nordrhein-Westfalen
CATEGORIES:Exkursion
END:VEVENT
END:VCALENDAR