BEGIN:VCALENDAR
VERSION:2.0
PRODID:-//Melanargia - Schmetterlinge und mehr! - ECPv6.15.18//NONSGML v1.0//EN
CALSCALE:GREGORIAN
METHOD:PUBLISH
X-ORIGINAL-URL:https://www.ag-rh-w-lepidopterologen.de
X-WR-CALDESC:Veranstaltungen für Melanargia - Schmetterlinge und mehr!
REFRESH-INTERVAL;VALUE=DURATION:PT1H
X-Robots-Tag:noindex
X-PUBLISHED-TTL:PT1H
BEGIN:VTIMEZONE
TZID:Europe/Berlin
BEGIN:DAYLIGHT
TZOFFSETFROM:+0100
TZOFFSETTO:+0200
TZNAME:CEST
DTSTART:20240331T010000
END:DAYLIGHT
BEGIN:STANDARD
TZOFFSETFROM:+0200
TZOFFSETTO:+0100
TZNAME:CET
DTSTART:20241027T010000
END:STANDARD
BEGIN:DAYLIGHT
TZOFFSETFROM:+0100
TZOFFSETTO:+0200
TZNAME:CEST
DTSTART:20250330T010000
END:DAYLIGHT
BEGIN:STANDARD
TZOFFSETFROM:+0200
TZOFFSETTO:+0100
TZNAME:CET
DTSTART:20251026T010000
END:STANDARD
BEGIN:DAYLIGHT
TZOFFSETFROM:+0100
TZOFFSETTO:+0200
TZNAME:CEST
DTSTART:20260329T010000
END:DAYLIGHT
BEGIN:STANDARD
TZOFFSETFROM:+0200
TZOFFSETTO:+0100
TZNAME:CET
DTSTART:20261025T010000
END:STANDARD
END:VTIMEZONE
BEGIN:VEVENT
DTSTART;TZID=Europe/Berlin:20250921T193000
DTEND;TZID=Europe/Berlin:20250921T230000
DTSTAMP:20260419T195811
CREATED:20250730T022926Z
LAST-MODIFIED:20250730T031454Z
UID:16270-1758483000-1758495600@www.ag-rh-w-lepidopterologen.de
SUMMARY:Essen: Nachtfalter im Grugapark
DESCRIPTION:Wir locken einheimische Nachtfalter mit UV-Licht und Rotwein/Zuckerlösung an.\nOrt: Schmetterlingshaus des Stiftungsverein Grugapark Essen e.V. (Mustergärten\, Nähe Romantisches Haus) \nErforderlich: Taschenlampe \nExkursionsleitung: Tim Laußmann\, Armin Dahl \nDer Schmetterlingsgarten im Grugapark entstand 2021 auf Initiative des Stiftungsvereins Grugapark Essen e.V. mit dem Ziel\, heimische Schmetterlinge zu fördern und insbesondere als Gartenbeispiel zu zeigen\, welche Pflanzen die heimische Schmetterlingswelt unterstützen. Der Garten sowie sein Glashaus informieren umfangreich über Lebensbereiche\, Schmetterlingsarten und ihre Ansprüche und dienen als Bildungsquelle für „Groß und Klein“.
URL:https://www.ag-rh-w-lepidopterologen.de/event/essen-nachtfalter-im-grugapark/
LOCATION:Essen\,  Grugapark
CATEGORIES:Citizen Science,Exkursion,Netzwerk
END:VEVENT
END:VCALENDAR