BEGIN:VCALENDAR
VERSION:2.0
PRODID:-//Melanargia - Schmetterlinge und mehr! - ECPv6.15.18//NONSGML v1.0//EN
CALSCALE:GREGORIAN
METHOD:PUBLISH
X-WR-CALNAME:Melanargia - Schmetterlinge und mehr!
X-ORIGINAL-URL:https://www.ag-rh-w-lepidopterologen.de
X-WR-CALDESC:Veranstaltungen für Melanargia - Schmetterlinge und mehr!
REFRESH-INTERVAL;VALUE=DURATION:PT1H
X-Robots-Tag:noindex
X-PUBLISHED-TTL:PT1H
BEGIN:VTIMEZONE
TZID:Europe/Berlin
BEGIN:DAYLIGHT
TZOFFSETFROM:+0100
TZOFFSETTO:+0200
TZNAME:CEST
DTSTART:20240331T010000
END:DAYLIGHT
BEGIN:STANDARD
TZOFFSETFROM:+0200
TZOFFSETTO:+0100
TZNAME:CET
DTSTART:20241027T010000
END:STANDARD
BEGIN:DAYLIGHT
TZOFFSETFROM:+0100
TZOFFSETTO:+0200
TZNAME:CEST
DTSTART:20250330T010000
END:DAYLIGHT
BEGIN:STANDARD
TZOFFSETFROM:+0200
TZOFFSETTO:+0100
TZNAME:CET
DTSTART:20251026T010000
END:STANDARD
BEGIN:DAYLIGHT
TZOFFSETFROM:+0100
TZOFFSETTO:+0200
TZNAME:CEST
DTSTART:20260329T010000
END:DAYLIGHT
BEGIN:STANDARD
TZOFFSETFROM:+0200
TZOFFSETTO:+0100
TZNAME:CET
DTSTART:20261025T010000
END:STANDARD
END:VTIMEZONE
BEGIN:VEVENT
DTSTART;TZID=Europe/Berlin:20250926T193000
DTEND;TZID=Europe/Berlin:20250926T220000
DTSTAMP:20260419T195746
CREATED:20250522T061450Z
LAST-MODIFIED:20250522T061554Z
UID:16157-1758915000-1758924000@www.ag-rh-w-lepidopterologen.de
SUMMARY:Haan: Leuchtaktion im Steinbruch Grube 7
DESCRIPTION:Freitag\, 26. September 2025\, 19:30 – 22.00 Uhr \nAuf den Spuren der Nachtfalter\nMehr als 3000 Schmetterlingsarten gibt es in Nordrhein-Westfalen\, die allermeisten davon sind „Motten“\, also dämmerungs- und nachtaktiv. Im Rahmen der Exkursion werden die Arten mit Leuchttürmen angelockt und vorgestellt. Daneben wird gezeigt wie man\, z.B. im eigenen Garten\, mit einfachen Mitteln die Falter selbst beobachten kann. Bitte eine Taschenlampe mitbringen! Anmeldung erforderlich per Mail an info@bsdme.de oder unter 0211 / 99 61 212. \nLeitung: Armin Radtke \nTreffpunkt: Schranke am Parkplatz der Grube 7\, Am Steinbruch\, 42781 Gruiten\, nächste Haltestelle „Gruiten-Dorf“ (Bus 742) \nKosten: Erwachsene 5\,00 €\, Kinder kostenfrei.
URL:https://www.ag-rh-w-lepidopterologen.de/event/haan-leuchtaktion-im-steinbruch-grube-7/
LOCATION:Nordrhein-Westfalen
CATEGORIES:Exkursion
END:VEVENT
END:VCALENDAR