BEGIN:VCALENDAR
VERSION:2.0
PRODID:-//Melanargia - Schmetterlinge und mehr! - ECPv6.15.18//NONSGML v1.0//EN
CALSCALE:GREGORIAN
METHOD:PUBLISH
X-ORIGINAL-URL:https://www.ag-rh-w-lepidopterologen.de
X-WR-CALDESC:Veranstaltungen für Melanargia - Schmetterlinge und mehr!
REFRESH-INTERVAL;VALUE=DURATION:PT1H
X-Robots-Tag:noindex
X-PUBLISHED-TTL:PT1H
BEGIN:VTIMEZONE
TZID:Europe/Berlin
BEGIN:DAYLIGHT
TZOFFSETFROM:+0100
TZOFFSETTO:+0200
TZNAME:CEST
DTSTART:20240331T010000
END:DAYLIGHT
BEGIN:STANDARD
TZOFFSETFROM:+0200
TZOFFSETTO:+0100
TZNAME:CET
DTSTART:20241027T010000
END:STANDARD
BEGIN:DAYLIGHT
TZOFFSETFROM:+0100
TZOFFSETTO:+0200
TZNAME:CEST
DTSTART:20250330T010000
END:DAYLIGHT
BEGIN:STANDARD
TZOFFSETFROM:+0200
TZOFFSETTO:+0100
TZNAME:CET
DTSTART:20251026T010000
END:STANDARD
BEGIN:DAYLIGHT
TZOFFSETFROM:+0100
TZOFFSETTO:+0200
TZNAME:CEST
DTSTART:20260329T010000
END:DAYLIGHT
BEGIN:STANDARD
TZOFFSETFROM:+0200
TZOFFSETTO:+0100
TZNAME:CET
DTSTART:20261025T010000
END:STANDARD
END:VTIMEZONE
BEGIN:VEVENT
DTSTART;TZID=Europe/Berlin:20251021T183000
DTEND;TZID=Europe/Berlin:20251021T200000
DTSTAMP:20260421T102845
CREATED:20251014T092149Z
LAST-MODIFIED:20251014T092938Z
UID:16417-1761071400-1761076800@www.ag-rh-w-lepidopterologen.de
SUMMARY:Wuppertal: Nachtfalter beobachten für Einsteiger
DESCRIPTION:Suchen Sie ein neues Hobby? Beobachten und dokumentieren Sie Nachtfalter einfach im eigenen Garten oder auf dem Balkon! Sie werden überrascht sein\, welche Artenvielfalt sie erwartet. Wir zeigen Ihnen Techniken\, wie sie die Schmetterlinge anlocken\, bestimmen und dokumentieren können. \nHelfen Sie mit unsere Nachtfalterwelt zu erkunden! \nEine Veranstaltung des Naturwissenschaftlichen Vereins Wuppertal e.V. \nDienstag\, 21. Oktober 2025\, 18:30 Uhr\nVHS-Forum\, Auer Schulstr. 20\, 42103 Wuppertal \nReferent: Dr. Tim Laussmann
URL:https://www.ag-rh-w-lepidopterologen.de/event/wuppertal-nachtfalter-beobachten-fuer-einsteiger/
LOCATION:VHS-Forum Wuppertal\, Auer Schulstraße. 20\, Wuppertal\, 42103\, Germany
CATEGORIES:Vortrag
END:VEVENT
END:VCALENDAR