BEGIN:VCALENDAR
VERSION:2.0
PRODID:-//Melanargia - Schmetterlinge und mehr! - ECPv6.15.18//NONSGML v1.0//EN
CALSCALE:GREGORIAN
METHOD:PUBLISH
X-WR-CALNAME:Melanargia - Schmetterlinge und mehr!
X-ORIGINAL-URL:https://www.ag-rh-w-lepidopterologen.de
X-WR-CALDESC:Veranstaltungen für Melanargia - Schmetterlinge und mehr!
REFRESH-INTERVAL;VALUE=DURATION:PT1H
X-Robots-Tag:noindex
X-PUBLISHED-TTL:PT1H
BEGIN:VTIMEZONE
TZID:Europe/Berlin
BEGIN:DAYLIGHT
TZOFFSETFROM:+0100
TZOFFSETTO:+0200
TZNAME:CEST
DTSTART:20250330T010000
END:DAYLIGHT
BEGIN:STANDARD
TZOFFSETFROM:+0200
TZOFFSETTO:+0100
TZNAME:CET
DTSTART:20251026T010000
END:STANDARD
BEGIN:DAYLIGHT
TZOFFSETFROM:+0100
TZOFFSETTO:+0200
TZNAME:CEST
DTSTART:20260329T010000
END:DAYLIGHT
BEGIN:STANDARD
TZOFFSETFROM:+0200
TZOFFSETTO:+0100
TZNAME:CET
DTSTART:20261025T010000
END:STANDARD
BEGIN:DAYLIGHT
TZOFFSETFROM:+0100
TZOFFSETTO:+0200
TZNAME:CEST
DTSTART:20270328T010000
END:DAYLIGHT
BEGIN:STANDARD
TZOFFSETFROM:+0200
TZOFFSETTO:+0100
TZNAME:CET
DTSTART:20271031T010000
END:STANDARD
END:VTIMEZONE
BEGIN:VEVENT
DTSTART;TZID=Europe/Berlin:20260410T210000
DTEND;TZID=Europe/Berlin:20260410T230000
DTSTAMP:20260420T110355
CREATED:20251230T032558Z
LAST-MODIFIED:20251230T032835Z
UID:16599-1775854800-1775862000@www.ag-rh-w-lepidopterologen.de
SUMMARY:Kevelaer: Nachtfalter beobachten
DESCRIPTION:Nachtfalter beobachten in Kevelaer\n\n\n\n\n\n\nUhrzeit: 21:00 – 23:00 Uhr \n\n\n\n\n\n\n\n\nLeitung: Monika Hertel und Martin Mercus \n\n\n\n\n\n\n\n\nTreffpunkt: wird bei Anmeldung bekannt gegeben; \nDie Veranstaltung findet nur bei trockenem und windstillem Wetter statt \n\n\n\n\n\n\n\n\nAnmeldung: E-Mail: info@nabu-kleve.de oder\nTel.: 01 63 / 08 09 197 (Kreisverband) \n\n„Lichtfang“ von Nachtfaltern erfolgt zur Feststellung des Artenspektrums. Dabei werden mit UV-Licht unter einem Gaze-Schirm (Leuchtturm) Falter angelockt und bestimmt. Zum Schutz der Augen gegen UV-Licht müssen Schutzbrillen getragen werden\, die gestellt werden. Deshalb ist die Teilnehmerzahl auf 8 Personen begrenzt. Um Anmeldung wird unbedingt gebeten.
URL:https://www.ag-rh-w-lepidopterologen.de/event/kevelaer-nachtfalter-beobachten/
LOCATION:Nordrhein-Westfalen
CATEGORIES:Citizen Science,Exkursion,Netzwerk
END:VEVENT
END:VCALENDAR