BEGIN:VCALENDAR
VERSION:2.0
PRODID:-//Melanargia - Schmetterlinge und mehr! - ECPv6.15.18//NONSGML v1.0//EN
CALSCALE:GREGORIAN
METHOD:PUBLISH
X-ORIGINAL-URL:https://www.ag-rh-w-lepidopterologen.de
X-WR-CALDESC:Veranstaltungen für Melanargia - Schmetterlinge und mehr!
REFRESH-INTERVAL;VALUE=DURATION:PT1H
X-Robots-Tag:noindex
X-PUBLISHED-TTL:PT1H
BEGIN:VTIMEZONE
TZID:Europe/Berlin
BEGIN:DAYLIGHT
TZOFFSETFROM:+0100
TZOFFSETTO:+0200
TZNAME:CEST
DTSTART:20250330T010000
END:DAYLIGHT
BEGIN:STANDARD
TZOFFSETFROM:+0200
TZOFFSETTO:+0100
TZNAME:CET
DTSTART:20251026T010000
END:STANDARD
BEGIN:DAYLIGHT
TZOFFSETFROM:+0100
TZOFFSETTO:+0200
TZNAME:CEST
DTSTART:20260329T010000
END:DAYLIGHT
BEGIN:STANDARD
TZOFFSETFROM:+0200
TZOFFSETTO:+0100
TZNAME:CET
DTSTART:20261025T010000
END:STANDARD
BEGIN:DAYLIGHT
TZOFFSETFROM:+0100
TZOFFSETTO:+0200
TZNAME:CEST
DTSTART:20270328T010000
END:DAYLIGHT
BEGIN:STANDARD
TZOFFSETFROM:+0200
TZOFFSETTO:+0100
TZNAME:CET
DTSTART:20271031T010000
END:STANDARD
END:VTIMEZONE
BEGIN:VEVENT
DTSTART;TZID=Europe/Berlin:20260705T110000
DTEND;TZID=Europe/Berlin:20260705T130000
DTSTAMP:20260420T122444
CREATED:20260222T140208Z
LAST-MODIFIED:20260222T140208Z
UID:16685-1783249200-1783256400@www.ag-rh-w-lepidopterologen.de
SUMMARY:Köln: Tagfalter-Exkursion
DESCRIPTION:Exkursion Tagfalter \nReferent: Karl-Heinz Jelinek \nOrt: Gut Leidenhausen\, Köln\nTreffpunkt: Innenhof an der Linde \nAnmeldung: 02203 9800541 | info@gut-leidenhausen.de
URL:https://www.ag-rh-w-lepidopterologen.de/event/koeln-tagfalter-exkursion-2/
LOCATION:Gut Leidenhausen\, Köln\, Gut Leidenhausen 1\, Köln\, 51147
CATEGORIES:Exkursion
END:VEVENT
END:VCALENDAR