BEGIN:VCALENDAR
VERSION:2.0
PRODID:-//Melanargia - Schmetterlinge und mehr! - ECPv6.15.18//NONSGML v1.0//EN
CALSCALE:GREGORIAN
METHOD:PUBLISH
X-WR-CALNAME:Melanargia - Schmetterlinge und mehr!
X-ORIGINAL-URL:https://www.ag-rh-w-lepidopterologen.de
X-WR-CALDESC:Veranstaltungen für Melanargia - Schmetterlinge und mehr!
REFRESH-INTERVAL;VALUE=DURATION:PT1H
X-Robots-Tag:noindex
X-PUBLISHED-TTL:PT1H
BEGIN:VTIMEZONE
TZID:Europe/Berlin
BEGIN:DAYLIGHT
TZOFFSETFROM:+0100
TZOFFSETTO:+0200
TZNAME:CEST
DTSTART:20250330T010000
END:DAYLIGHT
BEGIN:STANDARD
TZOFFSETFROM:+0200
TZOFFSETTO:+0100
TZNAME:CET
DTSTART:20251026T010000
END:STANDARD
BEGIN:DAYLIGHT
TZOFFSETFROM:+0100
TZOFFSETTO:+0200
TZNAME:CEST
DTSTART:20260329T010000
END:DAYLIGHT
BEGIN:STANDARD
TZOFFSETFROM:+0200
TZOFFSETTO:+0100
TZNAME:CET
DTSTART:20261025T010000
END:STANDARD
BEGIN:DAYLIGHT
TZOFFSETFROM:+0100
TZOFFSETTO:+0200
TZNAME:CEST
DTSTART:20270328T010000
END:DAYLIGHT
BEGIN:STANDARD
TZOFFSETFROM:+0200
TZOFFSETTO:+0100
TZNAME:CET
DTSTART:20271031T010000
END:STANDARD
END:VTIMEZONE
BEGIN:VEVENT
DTSTART;TZID=Europe/Berlin:20260710T080000
DTEND;TZID=Europe/Berlin:20260712T170000
DTSTAMP:20260422T135648
CREATED:20260401T091922Z
LAST-MODIFIED:20260409T082043Z
UID:16840-1783670400-1783875600@www.ag-rh-w-lepidopterologen.de
SUMMARY:Wochenend-Exkursion in die Eifel nach Gerolstein
DESCRIPTION:Die diesjährige Mittelrhein-/Mosel-Wochendexkursion der Melanargia e.V. führt in die Eifel nach Gerolstein. \nIn Gerolstein gibt es nicht nur Sprudel\, sondern auch aus naturkundlicher Sicht viel zu entdecken. Von Mooren über Kalk-Magerrasen und alte Lava-Gruben bis hin zu den Felsen der „Gerolsteiner Dolomiten“ ist auf kleinem Raum für jeden Geschmack etwas dabei. Die Gegend ist – zumindest was die „Motten“ angeht – nicht allzu intensiv untersucht\, so dass also ganz nebenbei die lokale Artenliste ordentlich gepusht werden wird. Was Tagschmetterlinge betrifft\, gehört dieser Teil der Eifel mit ca. 80 Arten übrigens zu den Top-Bereichen des Arbeitsgebiets der Melanargia e.V. \nIn der Umgebung gibt es verschiedenste spannende Biotope: das NSG Gerolsteiner Dolomiten (Dolomitfelsen + Kalkmagerrasen + Laubwald)\, das NSG Truffvenn bei Mürlenbach (Zwischenmoor +  Heidefläche + Moorbirkenwald)\, den Baarley bei Pelm (aufgelassener Lava-Tagebau\, ziemlich blütenreich)\, das NSG Trilobitenfelder bei Gees (Kalkmagerrasen). Pelm und Gees liegen nahe an Gerolstein (< 10 Minuten Fahrtzeit mit dem Auto)\, Mürlenbach etwas weiter weg (etwa 15 Auto-Minuten). Das dortige Moor ist allerdings wirklich spannend und wäre eine schöne Abwechslung\, sofern das Wetter mitspielt (wird schnell kalt dort oben!). \nEinige Impressionen aus der näheren und weiteren Umgebung findet man auf https://map-final.rlp-umwelt.de/docs_kartendienste/BWP_2011_09_N/BWP_2011_09_N_Fachplan_Anlagen_Gebietsimpressionen.pdf \nOrganisiert wird das Exkursionswochenende von Alexander Franzen und Justus Vogel mittels Whatsapp-Gruppe. Organisiert wird das Exkursionswochenende von Alexander Franzen und Justus Vogel mittels Whatsapp-Gruppe. Neue Interessenten\, die in die Whatsapp-Gruppe aufgenommen werden wollen\, melden sich bitte unter der Email-Adresse sander.franzen@t-online.de. \nGerolstein ist mit öffentlichen Verkehrsmitteln erreichbar\, und es gibt ein ausreichendes Angebot an Unterkünften\, Lokalen und Möglichkeiten\, seine Zeit anderweitig zu gestalten (Museen\, Aussichtspunkte etc.). In den größeren Ortschaften der näheren Umgebung\, z.B. Pelm oder Birresborn\, gibt es ebenfalls Unterkünfte.
URL:https://www.ag-rh-w-lepidopterologen.de/event/wochenend-exkursion-in-die-eifel-nach-gerolstein/
LOCATION:Umgebung von Gerolstein\, Gerolstein\, Rheinland-Pfalz
CATEGORIES:Exkursion
END:VEVENT
BEGIN:VEVENT
DTSTART;VALUE=DATE:20260711
DTEND;VALUE=DATE:20260713
DTSTAMP:20260422T135648
CREATED:20260326T103522Z
LAST-MODIFIED:20260326T104532Z
UID:16790-1783728000-1783900799@www.ag-rh-w-lepidopterologen.de
SUMMARY:Datteln: Tag der lebendigen Lippe
DESCRIPTION:Im Rahmen des Programms „Lebendige Lippe“ wurden seit 2016 an der Lippe bei Haus Vogelsang zahlreiche Renaturierungsmaßnahmen umgesetzt\, um die Vernetzung zwischen Fluss und Aue wiederherzustellen und neue Auenbereiche zu entwickeln. Entstanden ist eine naturnahe Flusslandschaft\, eingebettet in ein vielfältiges Mosaik aus extensiven Weiden\, Wiesen\, Flutmulden\, Sekundärauen\, (Au-)Wäldern und Trockenstandorten. Gemeinsam mit Ihnen möchten wir über einen Zeitraum von insgesamt 24 Stunden untersuchen\, welche Arten sich bereits an der renaturierten Lippe und in den neu geschaffenen Lippeauen angesiedelt haben. \nNeben der Erkundung von Flora und Fauna bietet der „Tag der lebendigen Lippe“\nviele Möglichkeiten\, sich fachlich auszutauschen\, neue Forschungsgebiete kennenzulernen und das Netzwerk in Sachen Artenvielfalt und Artenschutz weiter zu fördern. Begleitet wird die Artenerfassung am Sonntag\, den 12. Juli 2026\, von einer öffentlichen Veranstaltung für die naturinteressierte Bevölkerung mit Informationsständen\, Führungen und Mitmach-Aktionen. \n>> Übersicht: Tag der Lebendigen Lippe 2026: Untersuchungsgebiete \n>> Anmeldeformular (bis 15. Mai) \n// die Arbeitsgemeinschaft plant von Samstag auf Sonntag im Gebiet Lichtfang zu betreiben. Ansprechpartner ist Armin Dahl//
URL:https://www.ag-rh-w-lepidopterologen.de/event/datteln-tag-der-lebendigen-lippe/
LOCATION:Datteln Haus Vogelsang\, Vogelsangweg 21-23\, Datteln\, Nordrhein-Wewstfalen\, 45711\, Germany
CATEGORIES:Citizen Science,Exkursion,Netzwerk
END:VEVENT
BEGIN:VEVENT
DTSTART;TZID=Europe/Berlin:20260712T110000
DTEND;TZID=Europe/Berlin:20260712T140000
DTSTAMP:20260422T135648
CREATED:20260222T140634Z
LAST-MODIFIED:20260222T140634Z
UID:16687-1783854000-1783864800@www.ag-rh-w-lepidopterologen.de
SUMMARY:Erftstadt: Tagfalter-Exkursion
DESCRIPTION:Tagfalter in der Erftaue (Exkursion) \nTreffpunkt: KM51 – Das Erftmuseum\, 50374 Erftstadt \nLeitung: Karl-Heinz Jelinek\nTel. 0151 152 11 483\, karl-heinz.jelinek@gmx.de
URL:https://www.ag-rh-w-lepidopterologen.de/event/erftstadt-tagfalter-exkursion/
LOCATION:KM51 – Das Erftmuseum\, Gymnicher Mühle 10\, Erftstadt\, Germany
CATEGORIES:Exkursion
ORGANIZER;CN="NABU Rhein-Erft e.V.":MAILTO:info@nabu-rhein-erft.de
END:VEVENT
END:VCALENDAR