BEGIN:VCALENDAR
VERSION:2.0
PRODID:-//Melanargia - Schmetterlinge und mehr! - ECPv6.15.18//NONSGML v1.0//EN
CALSCALE:GREGORIAN
METHOD:PUBLISH
X-WR-CALNAME:Melanargia - Schmetterlinge und mehr!
X-ORIGINAL-URL:https://www.ag-rh-w-lepidopterologen.de
X-WR-CALDESC:Veranstaltungen für Melanargia - Schmetterlinge und mehr!
REFRESH-INTERVAL;VALUE=DURATION:PT1H
X-Robots-Tag:noindex
X-PUBLISHED-TTL:PT1H
BEGIN:VTIMEZONE
TZID:Europe/Berlin
BEGIN:DAYLIGHT
TZOFFSETFROM:+0100
TZOFFSETTO:+0200
TZNAME:CEST
DTSTART:20250330T010000
END:DAYLIGHT
BEGIN:STANDARD
TZOFFSETFROM:+0200
TZOFFSETTO:+0100
TZNAME:CET
DTSTART:20251026T010000
END:STANDARD
BEGIN:DAYLIGHT
TZOFFSETFROM:+0100
TZOFFSETTO:+0200
TZNAME:CEST
DTSTART:20260329T010000
END:DAYLIGHT
BEGIN:STANDARD
TZOFFSETFROM:+0200
TZOFFSETTO:+0100
TZNAME:CET
DTSTART:20261025T010000
END:STANDARD
BEGIN:DAYLIGHT
TZOFFSETFROM:+0100
TZOFFSETTO:+0200
TZNAME:CEST
DTSTART:20270328T010000
END:DAYLIGHT
BEGIN:STANDARD
TZOFFSETFROM:+0200
TZOFFSETTO:+0100
TZNAME:CET
DTSTART:20271031T010000
END:STANDARD
END:VTIMEZONE
BEGIN:VEVENT
DTSTART;TZID=Europe/Berlin:20260814T200000
DTEND;TZID=Europe/Berlin:20260814T233000
DTSTAMP:20260420T173819
CREATED:20260401T073424Z
LAST-MODIFIED:20260401T080613Z
UID:16822-1786737600-1786750200@www.ag-rh-w-lepidopterologen.de
SUMMARY:Leuchtabend bei Griesenbach / Gemeinde Asbach (Westerwald)
DESCRIPTION:Bei dieser Abendexkursion können an verschiedenen Leuchttürmen heimische und teilweise seltene Nachtfalter beobachtet werden. Die Teilnehmer erfahren viel Interessantes über unsere nachtaktiven Schmetterlinge. \nDie Teilnahme ist kostenlos! Wir freuen uns über eine Spende. \nBitte mitbringen: Taschenlampe oder Stirnlampe\, festes Schuhwerk\, wetterangepasste Kleidung\, Verpflegung \nLeitung: Brigitte Schmälter\, Nachtfalter-Expertin \nAnmeldung bitte bis 13.08.2026 bei Petra Paffrath (0160 728 0441 bzw. petrapaffrath@anual-ev.de) oder bei Brigitte Schmälter (0176 322 93 887)
URL:https://www.ag-rh-w-lepidopterologen.de/event/leuchtabend-bei-griesenbach-gemeinde-asbach-westerwald-2/
LOCATION:Griesenbach\, Germany
CATEGORIES:Exkursion
END:VEVENT
END:VCALENDAR