BEGIN:VCALENDAR
VERSION:2.0
PRODID:-//Melanargia - Schmetterlinge und mehr! - ECPv6.15.18//NONSGML v1.0//EN
CALSCALE:GREGORIAN
METHOD:PUBLISH
X-ORIGINAL-URL:https://www.ag-rh-w-lepidopterologen.de
X-WR-CALDESC:Veranstaltungen für Melanargia - Schmetterlinge und mehr!
REFRESH-INTERVAL;VALUE=DURATION:PT1H
X-Robots-Tag:noindex
X-PUBLISHED-TTL:PT1H
BEGIN:VTIMEZONE
TZID:Europe/Berlin
BEGIN:DAYLIGHT
TZOFFSETFROM:+0100
TZOFFSETTO:+0200
TZNAME:CEST
DTSTART:20250330T010000
END:DAYLIGHT
BEGIN:STANDARD
TZOFFSETFROM:+0200
TZOFFSETTO:+0100
TZNAME:CET
DTSTART:20251026T010000
END:STANDARD
BEGIN:DAYLIGHT
TZOFFSETFROM:+0100
TZOFFSETTO:+0200
TZNAME:CEST
DTSTART:20260329T010000
END:DAYLIGHT
BEGIN:STANDARD
TZOFFSETFROM:+0200
TZOFFSETTO:+0100
TZNAME:CET
DTSTART:20261025T010000
END:STANDARD
BEGIN:DAYLIGHT
TZOFFSETFROM:+0100
TZOFFSETTO:+0200
TZNAME:CEST
DTSTART:20270328T010000
END:DAYLIGHT
BEGIN:STANDARD
TZOFFSETFROM:+0200
TZOFFSETTO:+0100
TZNAME:CET
DTSTART:20271031T010000
END:STANDARD
END:VTIMEZONE
BEGIN:VEVENT
DTSTART;TZID=Europe/Berlin:20260816T140000
DTEND;TZID=Europe/Berlin:20260816T170000
DTSTAMP:20260420T193302
CREATED:20260401T075315Z
LAST-MODIFIED:20260401T075315Z
UID:16833-1786888800-1786899600@www.ag-rh-w-lepidopterologen.de
SUMMARY:Infotag im Naturschutzgebiet Quarzgrube Brenig bei Bornheim
DESCRIPTION:Verschiedene Exkursionen bieten vertiefte Einblicke in das Schutzgebiet. Das detaillierte Programm finden Sie kurz vor dem Termin unter www.bund-rsk.de. \nDauer: je Exkursion ca. 1-2 Std. \nOrt: Bornheim\, Neuweg\, Tor zur Quarzsandgrube Brenig. Bitte nur mit Fahrrad oder zu Fuß kommen. \nAnmeldung bei Achim Baumgartner 02241 145 2000 oder anmeldung@bund-rsk.de
URL:https://www.ag-rh-w-lepidopterologen.de/event/infotag-im-naturschutzgebiet-quarzgrube-brenig-bei-bornheim/
LOCATION:Obstblütenlandschaft Bornheim\, Treffpunkt am LSV-Turm am Neuweg
CATEGORIES:Exkursion
END:VEVENT
END:VCALENDAR