BEGIN:VCALENDAR
VERSION:2.0
PRODID:-//Melanargia - Schmetterlinge und mehr! - ECPv6.15.18//NONSGML v1.0//EN
CALSCALE:GREGORIAN
METHOD:PUBLISH
X-WR-CALNAME:Melanargia - Schmetterlinge und mehr!
X-ORIGINAL-URL:https://www.ag-rh-w-lepidopterologen.de
X-WR-CALDESC:Veranstaltungen für Melanargia - Schmetterlinge und mehr!
REFRESH-INTERVAL;VALUE=DURATION:PT1H
X-Robots-Tag:noindex
X-PUBLISHED-TTL:PT1H
BEGIN:VTIMEZONE
TZID:Europe/Berlin
BEGIN:DAYLIGHT
TZOFFSETFROM:+0100
TZOFFSETTO:+0200
TZNAME:CEST
DTSTART:20250330T010000
END:DAYLIGHT
BEGIN:STANDARD
TZOFFSETFROM:+0200
TZOFFSETTO:+0100
TZNAME:CET
DTSTART:20251026T010000
END:STANDARD
BEGIN:DAYLIGHT
TZOFFSETFROM:+0100
TZOFFSETTO:+0200
TZNAME:CEST
DTSTART:20260329T010000
END:DAYLIGHT
BEGIN:STANDARD
TZOFFSETFROM:+0200
TZOFFSETTO:+0100
TZNAME:CET
DTSTART:20261025T010000
END:STANDARD
BEGIN:DAYLIGHT
TZOFFSETFROM:+0100
TZOFFSETTO:+0200
TZNAME:CEST
DTSTART:20270328T010000
END:DAYLIGHT
BEGIN:STANDARD
TZOFFSETFROM:+0200
TZOFFSETTO:+0100
TZNAME:CET
DTSTART:20271031T010000
END:STANDARD
END:VTIMEZONE
BEGIN:VEVENT
DTSTART;VALUE=DATE:20261009
DTEND;VALUE=DATE:20261012
DTSTAMP:20260421T053324
CREATED:20251118T211749Z
LAST-MODIFIED:20260401T071700Z
UID:16482-1791504000-1791763199@www.ag-rh-w-lepidopterologen.de
SUMMARY:Karlstadt am Main: Mikro-Treffen
DESCRIPTION:Das Jahrestreffen 2026 der deutschsprachigen Kleinschmetterlingsspezialiste findet vom 9.-11. Oktober  in Bayern statt. \nEin Zimmerkontingent ist  im  Hotel „Mainpromenade“ reserviert\, das bis zum 31. März für die Teilnehmer vorbehalten ist.  Bitte reserviert Eure Übernachtungen direkt im Hotel unter Angabe des Stichwortes „Kleinschmetterlinge“. \nKarlstadt ist sowohl mit dem Auto als auch mit der Bahn gut erreichbar und das Hotel ist lediglich 400 m vom Bahnhof entfernt. \nDie Konditionen gestalten sich folgendermaßen:\nÜbernachtung mit Frühstück für 2 Tage je 68 Euro pro Nacht pro Person im Doppelzimmer bzw. 94 Euro pro Nacht im Einzelzimmer. \n(!!Achtung bei nur einer Nacht werden 150 € pro Nacht berechnet!! – wer nur eine Nacht bleiben will\, soll bitte noch einmal konkret nach dem Preis fragen)\nHalbpension kostet zusätzlich 33 Euro pro Person. \nDie Tagungspauschale für Samstag beträgt € 70\,- \nMehr Infos und Organisation: Thomas Guggemoos
URL:https://www.ag-rh-w-lepidopterologen.de/event/karlstadt-am-main-micro-treffen/
LOCATION:Nordrhein-Westfalen
END:VEVENT
END:VCALENDAR