BEGIN:VCALENDAR
VERSION:2.0
PRODID:-//Melanargia - Schmetterlinge und mehr! - ECPv6.15.18//NONSGML v1.0//EN
CALSCALE:GREGORIAN
METHOD:PUBLISH
X-WR-CALNAME:Melanargia - Schmetterlinge und mehr!
X-ORIGINAL-URL:https://www.ag-rh-w-lepidopterologen.de
X-WR-CALDESC:Veranstaltungen für Melanargia - Schmetterlinge und mehr!
REFRESH-INTERVAL;VALUE=DURATION:PT1H
X-Robots-Tag:noindex
X-PUBLISHED-TTL:PT1H
BEGIN:VTIMEZONE
TZID:Europe/Berlin
BEGIN:DAYLIGHT
TZOFFSETFROM:+0100
TZOFFSETTO:+0200
TZNAME:CEST
DTSTART:20240331T010000
END:DAYLIGHT
BEGIN:STANDARD
TZOFFSETFROM:+0200
TZOFFSETTO:+0100
TZNAME:CET
DTSTART:20241027T010000
END:STANDARD
BEGIN:DAYLIGHT
TZOFFSETFROM:+0100
TZOFFSETTO:+0200
TZNAME:CEST
DTSTART:20250330T010000
END:DAYLIGHT
BEGIN:STANDARD
TZOFFSETFROM:+0200
TZOFFSETTO:+0100
TZNAME:CET
DTSTART:20251026T010000
END:STANDARD
BEGIN:DAYLIGHT
TZOFFSETFROM:+0100
TZOFFSETTO:+0200
TZNAME:CEST
DTSTART:20260329T010000
END:DAYLIGHT
BEGIN:STANDARD
TZOFFSETFROM:+0200
TZOFFSETTO:+0100
TZNAME:CET
DTSTART:20261025T010000
END:STANDARD
END:VTIMEZONE
BEGIN:VEVENT
DTSTART;TZID=Europe/Berlin:20250128T183000
DTEND;TZID=Europe/Berlin:20250128T200000
DTSTAMP:20260423T115533
CREATED:20250117T113639Z
LAST-MODIFIED:20250118T094953Z
UID:15978-1738089000-1738094400@www.ag-rh-w-lepidopterologen.de
SUMMARY:Wuppertal: Jahresrückblick der Entomologischen Sektion des NVW
DESCRIPTION: Naturwissenschaftlicher Vereins Wuppertal\n \nTreffpunkt: Bergische Universität Wuppertal\, Hörsaal 11\nU.a.: Zur Situation des Mosel-Apollofalters und der Insekten an der Mosel\, neues auf dem YouTube Kanal „MothHunters“ und Rückblick auf unsere Exkursionen im Jahr 2024.\nGäste Willkommen!
URL:https://www.ag-rh-w-lepidopterologen.de/event/wuppertal-jahresrueckblick-der-entomologischen-sektion-des-nvw/
LOCATION:Bergische Universität Wuppertal – Hörsaal 11\, Gaußstraße\, Hörsaal 11\, Wuppertal\, Germany
END:VEVENT
END:VCALENDAR