BEGIN:VCALENDAR
VERSION:2.0
PRODID:-//Melanargia - Schmetterlinge und mehr! - ECPv6.15.18//NONSGML v1.0//EN
CALSCALE:GREGORIAN
METHOD:PUBLISH
X-ORIGINAL-URL:https://www.ag-rh-w-lepidopterologen.de
X-WR-CALDESC:Veranstaltungen für Melanargia - Schmetterlinge und mehr!
REFRESH-INTERVAL;VALUE=DURATION:PT1H
X-Robots-Tag:noindex
X-PUBLISHED-TTL:PT1H
BEGIN:VTIMEZONE
TZID:Europe/Berlin
BEGIN:DAYLIGHT
TZOFFSETFROM:+0100
TZOFFSETTO:+0200
TZNAME:CEST
DTSTART:20240331T010000
END:DAYLIGHT
BEGIN:STANDARD
TZOFFSETFROM:+0200
TZOFFSETTO:+0100
TZNAME:CET
DTSTART:20241027T010000
END:STANDARD
BEGIN:DAYLIGHT
TZOFFSETFROM:+0100
TZOFFSETTO:+0200
TZNAME:CEST
DTSTART:20250330T010000
END:DAYLIGHT
BEGIN:STANDARD
TZOFFSETFROM:+0200
TZOFFSETTO:+0100
TZNAME:CET
DTSTART:20251026T010000
END:STANDARD
BEGIN:DAYLIGHT
TZOFFSETFROM:+0100
TZOFFSETTO:+0200
TZNAME:CEST
DTSTART:20260329T010000
END:DAYLIGHT
BEGIN:STANDARD
TZOFFSETFROM:+0200
TZOFFSETTO:+0100
TZNAME:CET
DTSTART:20261025T010000
END:STANDARD
END:VTIMEZONE
BEGIN:VEVENT
DTSTART;TZID=Europe/Berlin:20251118T190000
DTEND;TZID=Europe/Berlin:20251118T210000
DTSTAMP:20260421T103049
CREATED:20251117T221214Z
LAST-MODIFIED:20251117T221637Z
UID:16477-1763492400-1763499600@www.ag-rh-w-lepidopterologen.de
SUMMARY:Dortmund: Wunderbare Welt der Nachtfalter
DESCRIPTION:Ein überraschender Fund in Dortmund an der Hohensyburg\, aber auch der geheimnisvolle „Augsburger Bär“ werden neben vielen anderen Faltern Thema des Vortrags sein. \n\n\n\n\n\n\n\n\n\n\n\n\n\n\nReferent: Bernd Gregarek (NABU Dortmund)\nOrt: Bildungsforum Schule\, Natur und Umwelt\, Am Rombergpark 35a\, 44225 Dortmund \nDie Veranstaltung ist kostenfrei.\nEine Anmeldung ist nicht erforderlich.
URL:https://www.ag-rh-w-lepidopterologen.de/event/dortmund-wunderbare-welt-der-nachtfalter/
LOCATION:Bildungsforum Schule\, Natur und Umwelt\, Am Rombergpark 35a\, Dortmund\, Nordrhein-Westfalen\, 44225\, Germany
CATEGORIES:Vortrag
END:VEVENT
BEGIN:VEVENT
DTSTART;VALUE=DATE:20251122
DTEND;VALUE=DATE:20251124
DTSTAMP:20260421T103049
CREATED:20250624T171205Z
LAST-MODIFIED:20251119T185034Z
UID:16215-1763769600-1763942399@www.ag-rh-w-lepidopterologen.de
SUMMARY:Düsseldorf: WET Westdeutscher Entomologentag
DESCRIPTION:Düsseldorf\, 22.-23. November 2025\nAufgrund der großen positiven Resonanz im vergangenen Jahr\, wird der Westdeutsche Entomologentag in diesem Jahr wieder in der Aula des Max-Planck-Gymnasiums (Koetschaustraße 36\, 40474 Düsseldorf\, 550 m bzw. knapp 10 Gehminuten vom Aquazoo-Löbbecke-Museum entfernt) stattfinden. \nDas WET25_Programm und Tickets  >> findet ihr hier \nTickets per QR-Code oder > hier \nDie Hauptvortragenden in diesem Jahr sind:\nProf. Johannes Kamp und Anne Graser  (Uni Göttingen) Käfer\, Hirsche\, Motten: Auswirkungen großräumigen Fichtensterbens auf die Nachtfalterfauna\nProf. Dr. Esther Schnettler (Bernhard-Nocht-Institut für Tropenmedizin): Stechmücken-assoziierte Viruserkrankungen in Deutschland\nDr. Michael Raupach (Zoologische Staatssammlung München): Grenzgänger – Die Biologie und Vielfalt der Wasserläufer\nDr. Ralph Peters (Museum Koenig Bonn): Licht ins Dunkel – Deutschlands „Dark Taxa“ werden zugänglich
URL:https://www.ag-rh-w-lepidopterologen.de/event/duesseldorf-wet-westdeutscher-entomologentag-2/
LOCATION:Max-Planck-Gymnasium\, Koetschaustraße 36\, 40474 Düsseldorf\, Max-Planck-Gymnasium\, Koetschaustraße 3\, Düsseldorf\, 40474\, Germany
CATEGORIES:Netzwerk,Verein / Orga,Vortrag
END:VEVENT
END:VCALENDAR