BEGIN:VCALENDAR
VERSION:2.0
PRODID:-//Melanargia - Schmetterlinge und mehr! - ECPv6.15.18//NONSGML v1.0//EN
CALSCALE:GREGORIAN
METHOD:PUBLISH
X-WR-CALNAME:Melanargia - Schmetterlinge und mehr!
X-ORIGINAL-URL:https://www.ag-rh-w-lepidopterologen.de
X-WR-CALDESC:Veranstaltungen für Melanargia - Schmetterlinge und mehr!
REFRESH-INTERVAL;VALUE=DURATION:PT1H
X-Robots-Tag:noindex
X-PUBLISHED-TTL:PT1H
BEGIN:VTIMEZONE
TZID:Europe/Berlin
BEGIN:DAYLIGHT
TZOFFSETFROM:+0100
TZOFFSETTO:+0200
TZNAME:CEST
DTSTART:20250330T010000
END:DAYLIGHT
BEGIN:STANDARD
TZOFFSETFROM:+0200
TZOFFSETTO:+0100
TZNAME:CET
DTSTART:20251026T010000
END:STANDARD
BEGIN:DAYLIGHT
TZOFFSETFROM:+0100
TZOFFSETTO:+0200
TZNAME:CEST
DTSTART:20260329T010000
END:DAYLIGHT
BEGIN:STANDARD
TZOFFSETFROM:+0200
TZOFFSETTO:+0100
TZNAME:CET
DTSTART:20261025T010000
END:STANDARD
BEGIN:DAYLIGHT
TZOFFSETFROM:+0100
TZOFFSETTO:+0200
TZNAME:CEST
DTSTART:20270328T010000
END:DAYLIGHT
BEGIN:STANDARD
TZOFFSETFROM:+0200
TZOFFSETTO:+0100
TZNAME:CET
DTSTART:20271031T010000
END:STANDARD
END:VTIMEZONE
BEGIN:VEVENT
DTSTART;TZID=Europe/Berlin:20260513T200000
DTEND;TZID=Europe/Berlin:20260513T233000
DTSTAMP:20260420T102508
CREATED:20260401T073042Z
LAST-MODIFIED:20260401T080242Z
UID:16817-1778702400-1778715000@www.ag-rh-w-lepidopterologen.de
SUMMARY:Leuchtabend bei Griesenbach / Gemeinde Asbach (Westerwald)
DESCRIPTION:Bei dieser Abendexkursion können an verschiedenen Leuchttürmen heimische und teilweise seltene Nachtfalter beobachtet werden. Die Teilnehmer erfahren viel Interessantes über unsere nachtaktiven Schmetterlinge. \nDie Teilnahme ist kostenlos! Wir freuen uns über eine Spende. \nBitte mitbringen: Taschenlampe oder Stirnlampe\, festes Schuhwerk\, wetterangepasste Kleidung\, Verpflegung \nLeitung: Brigitte Schmälter\, Nachtfalter-Expertin \nAnmeldung bitte bis 12.05.2026 bei Petra Paffrath (0160 728 0441 bzw. petrapaffrath@anual-ev.de) oder bei Brigitte Schmälter (0176 322 93 887)
URL:https://www.ag-rh-w-lepidopterologen.de/event/leuchtabend-bei-griesenbach-gemeinde-asbach-westerwald/
LOCATION:Griesenbach\, Germany
CATEGORIES:Exkursion
END:VEVENT
BEGIN:VEVENT
DTSTART;TZID=Europe/Berlin:20260516T213000
DTEND;TZID=Europe/Berlin:20260517T003000
DTSTAMP:20260420T102508
CREATED:20260401T074149Z
LAST-MODIFIED:20260401T080310Z
UID:16825-1778967000-1778977800@www.ag-rh-w-lepidopterologen.de
SUMMARY:Nachtfalter in der Obstblütenlandschaft bei Bornheim
DESCRIPTION:Im Mai kommen bei schönem Wetter viele unterschiedliche Falter an die Leuchttürme! Sie fliegen nach Anbruch der Dunkelheit – also etwa ab 22:00 Uhr – ans Netz und können ausgiebig betrachtet werden. Bei dieser Veranstaltung sind Gäste von Klein bis Groß gleichermaßen willkommen. Bitte Taschenlampen\, warme Kleidung und festes Schuhwerk nicht vergessen! \nAnmeldung erforderlich: brigitte.schmaelter@bund-rsk.de\, 017632293887 \nLeitung: Brigitte und Hajo Schmälter \nTreffpunkt: Bornheimer Obstblütenlandschaft\, Am LSV-Turm am Neuweg: https://maps.app.goo.gl/BPkXiEjDsK2tZGUu6
URL:https://www.ag-rh-w-lepidopterologen.de/event/nachtfalter-in-der-obstbluetenlandschaft-bei-bornheim/
LOCATION:Obstblütenlandschaft Bornheim\, Treffpunkt am LSV-Turm am Neuweg
CATEGORIES:Exkursion
END:VEVENT
BEGIN:VEVENT
DTSTART;TZID=Europe/Berlin:20260522T210000
DTEND;TZID=Europe/Berlin:20260522T210000
DTSTAMP:20260420T102508
CREATED:20251209T210850Z
LAST-MODIFIED:20260401T080344Z
UID:16574-1779483600-1779483600@www.ag-rh-w-lepidopterologen.de
SUMMARY:Köln: Leuchtnacht im Nüssenberger Busch
DESCRIPTION:Der entomologische Arbeitskreis des Kölner NABU veranstaltet eine öffentliche Leuchtnacht im Nüssenberger Busch im nordwestlichen Äußeren Grüngürtel in Köln.\nDer genaue Treffpunkt wird bei Anmeldung bekannt gegeben. \nAnmeldung bei der NABU-Geschäftsstelle unter 0221/790 2889 oder gs (ätt) nabu-koeln.de
URL:https://www.ag-rh-w-lepidopterologen.de/event/koeln-leuchtnacht-im-nuessenberger-busch/
LOCATION:Köln\, Nüssenberger Busch im Äußeren Grüngürtel
CATEGORIES:Exkursion
END:VEVENT
BEGIN:VEVENT
DTSTART;TZID=Europe/Berlin:20260529T220000
DTEND;TZID=Europe/Berlin:20260530T003000
DTSTAMP:20260420T102508
CREATED:20260401T074759Z
LAST-MODIFIED:20260401T080411Z
UID:16827-1780092000-1780101000@www.ag-rh-w-lepidopterologen.de
SUMMARY:Nachtfalter im Pleistal bei St. Augustin/Niederpleis
DESCRIPTION:Das Pleistal rund um das Wiesenzentrum wird von einer bunten Nachtfalterfauna bewohnt. Ende Mai werden viele Arten an die Leuchttürme kommen\, sobald es dunkel genug ist – was allerdings erst ab etwa 22:15 Uhr der Fall sein wird. Hoffen wir also auf gutes Wetter! \nBitte Taschenlampen\, festes Schuhwerk und eine warme Jacke nicht vergessen! \nAnmeldung erwünscht: brigitte.schmaelter@bund-rsk.de\, 0176 3229 3887 \nLeitung: Brigitte und Hajo Schmälter \nOrt: Wiese in Niederpleis\, Nähe BUND-Wiesenzentrum\, Sankt Augustin-Niederpleis \nZum Wiesenzentrum in Niederpleis sollte man besser nicht mit dem Auto kommen.
URL:https://www.ag-rh-w-lepidopterologen.de/event/nachtfalter-im-pleistal-bei-st-augustin-niederpleis/
LOCATION:BUND-Wiesenzentrum Niederpleis\, Baumschulweg 28\, Sankt Augustin-Niederpleis\, Germany
CATEGORIES:Exkursion
END:VEVENT
BEGIN:VEVENT
DTSTART;VALUE=DATE:20260530
DTEND;VALUE=DATE:20260531
DTSTAMP:20260420T102508
CREATED:20260314T073342Z
LAST-MODIFIED:20260316T145201Z
UID:16760-1780099200-1780185599@www.ag-rh-w-lepidopterologen.de
SUMMARY:Cochem/Mosel: Erfassungsexkursionen und Lichtfang
DESCRIPTION:Das Naturhistorische Museum Mainz plant eine groß angelegte Erfassungsexkursion mit möglichst vielen Expert:innen im Rahmen der  Woche der Artenvielfalt an der Mosel\nLeitung: Carsten Renker \nWann: Samstag\, 30. Mai 2026\nWo: Zentraler Treffpunkt/Parkplatz – Wanderparkplatz Conder Höhe (50.15228N 7.18931E) Vom Treffpunkt aus lassen sich auf kurzem Weg zahlreiche Naturschutzgebiete ansteuern\, die eine Vielzahl unterschiedlicher Lebensräume bieten – von xerothermen Felshängen\, über unterschiedliche Waldgesellschaften\, bis hin zu Feuchtwiesen. \nAnsprechpartner und Organisation:\nDr. Carsten Renker\nNaturhistorisches Museum Mainz\nEs soll auch geleuchtet werden. Bei Interesse bitte mit Carsten Renker kurzschließen.\n[www.mainz.de/vv/personen/Renker-Carsten] \nMehr dazu: https://forum.lepiforum.org/post/1006213
URL:https://www.ag-rh-w-lepidopterologen.de/event/cochem-mosel-woche-der-artenvielfalt/
LOCATION:Cochem Conder Höhe Wanderparkplatz an der K 59 / Bergstraße\, Cochem\, Rheinland-Pfalz\, Germany
CATEGORIES:Exkursion
END:VEVENT
END:VCALENDAR